BEGIN:VCALENDAR
VERSION:2.0
PRODID:-//Oshofestival - ECPv6.15.20//NONSGML v1.0//EN
CALSCALE:GREGORIAN
METHOD:PUBLISH
X-WR-CALNAME:Oshofestival
X-ORIGINAL-URL:https://www.oshofestival.it
X-WR-CALDESC:Events for Oshofestival
REFRESH-INTERVAL;VALUE=DURATION:PT1H
X-Robots-Tag:noindex
X-PUBLISHED-TTL:PT1H
BEGIN:VTIMEZONE
TZID:Europe/Rome
BEGIN:DAYLIGHT
TZOFFSETFROM:+0100
TZOFFSETTO:+0200
TZNAME:CEST
DTSTART:20250330T010000
END:DAYLIGHT
BEGIN:STANDARD
TZOFFSETFROM:+0200
TZOFFSETTO:+0100
TZNAME:CET
DTSTART:20251026T010000
END:STANDARD
BEGIN:DAYLIGHT
TZOFFSETFROM:+0100
TZOFFSETTO:+0200
TZNAME:CEST
DTSTART:20260329T010000
END:DAYLIGHT
BEGIN:STANDARD
TZOFFSETFROM:+0200
TZOFFSETTO:+0100
TZNAME:CET
DTSTART:20261025T010000
END:STANDARD
BEGIN:DAYLIGHT
TZOFFSETFROM:+0100
TZOFFSETTO:+0200
TZNAME:CEST
DTSTART:20270328T010000
END:DAYLIGHT
BEGIN:STANDARD
TZOFFSETFROM:+0200
TZOFFSETTO:+0100
TZNAME:CET
DTSTART:20271031T010000
END:STANDARD
END:VTIMEZONE
BEGIN:VEVENT
DTSTART;TZID=Europe/Rome:20260425T221500
DTEND;TZID=Europe/Rome:20260425T224500
DTSTAMP:20260424T101154
CREATED:20251222T110033Z
LAST-MODIFIED:20260210T102823Z
UID:3488-1777155300-1777157100@www.oshofestival.it
SUMMARY:Sannyas Celebration
DESCRIPTION:“I want this whole humanity to be one ocean of consciousness. Whatever the buddhas in the past did was good\, but not enough. They created for themselves the highest peak of consciousness. I would like to create that highest peak for everyone… at least for those who are in search of it.” Osho
URL:https://www.oshofestival.it/en/event/sannyas-celebration-3/
LOCATION:Sala Rossa
CATEGORIES:Sala Rossa
ATTACH;FMTTYPE=image/png:https://www.oshofestival.it/wp-content/uploads/2025/12/Schermata-2026-02-01-alle-11.44.47-scaled.png
END:VEVENT
END:VCALENDAR