BEGIN:VCALENDAR
VERSION:2.0
PRODID:-//Oshofestival - ECPv6.15.20//NONSGML v1.0//EN
CALSCALE:GREGORIAN
METHOD:PUBLISH
X-ORIGINAL-URL:https://www.oshofestival.it
X-WR-CALDESC:Events for Oshofestival
REFRESH-INTERVAL;VALUE=DURATION:PT1H
X-Robots-Tag:noindex
X-PUBLISHED-TTL:PT1H
BEGIN:VTIMEZONE
TZID:Europe/Rome
BEGIN:DAYLIGHT
TZOFFSETFROM:+0100
TZOFFSETTO:+0200
TZNAME:CEST
DTSTART:20250330T010000
END:DAYLIGHT
BEGIN:STANDARD
TZOFFSETFROM:+0200
TZOFFSETTO:+0100
TZNAME:CET
DTSTART:20251026T010000
END:STANDARD
BEGIN:DAYLIGHT
TZOFFSETFROM:+0100
TZOFFSETTO:+0200
TZNAME:CEST
DTSTART:20260329T010000
END:DAYLIGHT
BEGIN:STANDARD
TZOFFSETFROM:+0200
TZOFFSETTO:+0100
TZNAME:CET
DTSTART:20261025T010000
END:STANDARD
BEGIN:DAYLIGHT
TZOFFSETFROM:+0100
TZOFFSETTO:+0200
TZNAME:CEST
DTSTART:20270328T010000
END:DAYLIGHT
BEGIN:STANDARD
TZOFFSETFROM:+0200
TZOFFSETTO:+0100
TZNAME:CET
DTSTART:20271031T010000
END:STANDARD
END:VTIMEZONE
BEGIN:VEVENT
DTSTART;TZID=Europe/Rome:20260423T143000
DTEND;TZID=Europe/Rome:20260423T145000
DTSTAMP:20260422T103757
CREATED:20251222T084937Z
LAST-MODIFIED:20260209T152345Z
UID:3522-1776954600-1776955800@www.oshofestival.it
SUMMARY:Welcome!
DESCRIPTION:A friendly\, joyous introduction to the Osho Festival 2026!
URL:https://www.oshofestival.it/en/event/welcome-2/
CATEGORIES:Sala Rossa
ATTACH;FMTTYPE=image/jpeg:https://www.oshofestival.it/wp-content/uploads/2025/12/73_DSC_5027.jpg
END:VEVENT
BEGIN:VEVENT
DTSTART;TZID=Europe/Rome:20260423T150000
DTEND;TZID=Europe/Rome:20260423T163000
DTSTAMP:20260422T103757
CREATED:20251222T084939Z
LAST-MODIFIED:20260209T152558Z
UID:3521-1776956400-1776961800@www.oshofestival.it
SUMMARY:Giocameditando®
DESCRIPTION:Living life from a space of playfulness is a precious gift. Playful people are joyful\, curious\, and know how to flow between lightness and depth with ease and synchronicity. Playing carefree helps release tension and tap into inner resources. When we use our vital energy fully while playing\, we are ready to fall into a deep relaxation where silence has an extremely nourishing fragrance.\n«Meditation is not anything of the mind\, it is something beyond the mind. And the first step is to be playful about it. If you are playful about it mind cannot destroy your meditation.\nOtherwise it will turn it into another ego trip; it will make you very serious. You will start thinking\, ‘I am a great meditator. I am holier than other people\, and the whole world is just worldly — I am religious\, I am virtuous.’ That’s what has happened to thousands of so-called saints\, moralists\, puritans: they are just playing ego games\, subtle ego games.\nHence\, I want to cut the very root of it from the very beginning. Be playful about it. It is a song to be sung\, a dance to be danced. Take it as fun and you will be surprised: if you can be playful about meditation\, meditation will grow in leaps and bounds». Osho
URL:https://www.oshofestival.it/en/event/giocameditando-2/
LOCATION:Sala Rossa
CATEGORIES:Aseel,Sala Rossa
ATTACH;FMTTYPE=image/jpeg:https://www.oshofestival.it/wp-content/uploads/2025/12/79_DSC_4856.jpg
END:VEVENT
BEGIN:VEVENT
DTSTART;TZID=Europe/Rome:20260423T152000
DTEND;TZID=Europe/Rome:20260423T163000
DTSTAMP:20260422T103757
CREATED:20251222T084940Z
LAST-MODIFIED:20260209T153016Z
UID:3519-1776957600-1776961800@www.oshofestival.it
SUMMARY:OSHO Chakra Sounds Meditation
DESCRIPTION:Sound meditation through the 7 chakras. With the use of particular sounds uttered in a certain sequence\, you can explore and harmonise the seven chakras\, the subtle energy centres that run through the human body.
URL:https://www.oshofestival.it/en/event/meditazione-osho-chakra-sounds-2/
LOCATION:Sala Blu
CATEGORIES:Sala Blu
ATTACH;FMTTYPE=image/jpeg:https://www.oshofestival.it/wp-content/uploads/2025/12/43-DSC_4438.jpg
END:VEVENT
BEGIN:VEVENT
DTSTART;TZID=Europe/Rome:20260423T153000
DTEND;TZID=Europe/Rome:20260423T230000
DTSTAMP:20260422T103757
CREATED:20260112T154943Z
LAST-MODIFIED:20260210T162213Z
UID:3520-1776958200-1776985200@www.oshofestival.it
SUMMARY:Individual sessions bookable in the lobby
DESCRIPTION:Individual sessions offered by Osho Divine Healing Arts\, (ODHA)\, Osho Prana Healing (OPH) and Bio Dynamic Body Balancing.\nPlus table sessions such as Kirlian\, Aura Soma\, Tarot.\nAt the dedicated desk in the lobby fix the day and time to treat yourself to a session.\nYou can pay (cash) for your session directly at the desk.
URL:https://www.oshofestival.it/en/event/sessioni-individuali-6/
CATEGORIES:Foyer
ATTACH;FMTTYPE=image/png:https://www.oshofestival.it/wp-content/uploads/2026/01/Schermata-2026-02-01-alle-10.24.36.png
END:VEVENT
BEGIN:VEVENT
DTSTART;TZID=Europe/Rome:20260423T170000
DTEND;TZID=Europe/Rome:20260423T183000
DTSTAMP:20260422T103757
CREATED:20251222T084941Z
LAST-MODIFIED:20260312T162239Z
UID:3518-1776963600-1776969000@www.oshofestival.it
SUMMARY:Where the Heart is touching the Earth
DESCRIPTION:Rooted in the earth and open to the heart\, this experience invites you to descend into your body and listen to the depths of your being. Body and heart intertwine\, creating a living centre between earth and sky\, where stability and openness merge. An opportunity for presence and harmony\, to live life fully with presence and lightness.
URL:https://www.oshofestival.it/en/event/le-fonti-di-energia-hara-e-cuore-2/
CATEGORIES:Rohi,Sala Rossa
ATTACH;FMTTYPE=image/jpeg:https://www.oshofestival.it/wp-content/uploads/2025/12/76_DSC_5081.jpg
END:VEVENT
BEGIN:VEVENT
DTSTART;TZID=Europe/Rome:20260423T172000
DTEND;TZID=Europe/Rome:20260423T183000
DTSTAMP:20260422T103757
CREATED:20251222T084944Z
LAST-MODIFIED:20260209T153752Z
UID:3517-1776964800-1776969000@www.oshofestival.it
SUMMARY:OSHO Chakra Breathing Meditation
DESCRIPTION:A technique for becoming aware of the seven chakras and awakening their energy through the breath. It gives you greater vitality. It is best to do this technique on an empty stomach.
URL:https://www.oshofestival.it/en/event/meditazione-osho-chakra-breathing-2/
LOCATION:Sala Blu
CATEGORIES:Sala Blu
ATTACH;FMTTYPE=image/jpeg:https://www.oshofestival.it/wp-content/uploads/2025/12/35-DSC_4238.jpg
END:VEVENT
BEGIN:VEVENT
DTSTART;TZID=Europe/Rome:20260423T185000
DTEND;TZID=Europe/Rome:20260423T200000
DTSTAMP:20260422T103757
CREATED:20251222T084945Z
LAST-MODIFIED:20260209T154000Z
UID:3516-1776970200-1776974400@www.oshofestival.it
SUMMARY:OSHO Kundalini Meditation
DESCRIPTION:This meditation finds its best moment if done at sunset or late afternoon. Letting go totally into shaking and dancing during the first two stages helps dissolve stiffness wherever the flow of energy has been repressed and blocked. Then energy can flow\, dance\, and be transformed into joy and bliss.
URL:https://www.oshofestival.it/en/event/meditazione-osho-kundalini-2/
LOCATION:Sala Rossa
CATEGORIES:Sala Rossa
ATTACH;FMTTYPE=image/jpeg:https://www.oshofestival.it/wp-content/uploads/2025/12/65_DSC_4519.jpg
END:VEVENT
BEGIN:VEVENT
DTSTART;TZID=Europe/Rome:20260423T214500
DTEND;TZID=Europe/Rome:20260423T225500
DTSTAMP:20260422T103758
CREATED:20251222T084946Z
LAST-MODIFIED:20260210T092936Z
UID:3515-1776980700-1776984900@www.oshofestival.it
SUMMARY:OSHO Devavani Meditation
DESCRIPTION:It means ‘divine voice’. An ancient technique that is even found in the Old Testament under the name ‘glossolalia’ … It deeply relaxes the conscious mind to the point that\, if done as the last activity of the day\, it will be followed by a deep sleep.
URL:https://www.oshofestival.it/en/event/meditazione-osho-devavani-2/
LOCATION:Sala Blu
CATEGORIES:Sala Blu
ATTACH;FMTTYPE=image/jpeg:https://www.oshofestival.it/wp-content/uploads/2025/12/65-DSC_4481.jpg
END:VEVENT
BEGIN:VEVENT
DTSTART;TZID=Europe/Rome:20260423T214500
DTEND;TZID=Europe/Rome:20260423T231500
DTSTAMP:20260422T103758
CREATED:20251222T084946Z
LAST-MODIFIED:20260209T154454Z
UID:3514-1776980700-1776986100@www.oshofestival.it
SUMMARY:The Joy of Meeting
DESCRIPTION:A journey to rediscover ourselves and open to new friendships.\nWe will meet in a playful and light way\, among new faces and longtime friends — a celebration of coming together: dancing\, laughing\, hugging…
URL:https://www.oshofestival.it/en/event/la-gioia-di-incontrarci-2/
CATEGORIES:Bhavani e Kiran – Humaniversity,Sala Rossa
ATTACH;FMTTYPE=image/jpeg:https://www.oshofestival.it/wp-content/uploads/2025/12/53-DSC_4442.jpg
END:VEVENT
END:VCALENDAR