BEGIN:VCALENDAR
VERSION:2.0
PRODID:-//Oshofestival - ECPv6.15.20//NONSGML v1.0//EN
CALSCALE:GREGORIAN
METHOD:PUBLISH
X-WR-CALNAME:Oshofestival
X-ORIGINAL-URL:https://www.oshofestival.it
X-WR-CALDESC:Events for Oshofestival
REFRESH-INTERVAL;VALUE=DURATION:PT1H
X-Robots-Tag:noindex
X-PUBLISHED-TTL:PT1H
BEGIN:VTIMEZONE
TZID:Europe/Rome
BEGIN:DAYLIGHT
TZOFFSETFROM:+0100
TZOFFSETTO:+0200
TZNAME:CEST
DTSTART:20250330T010000
END:DAYLIGHT
BEGIN:STANDARD
TZOFFSETFROM:+0200
TZOFFSETTO:+0100
TZNAME:CET
DTSTART:20251026T010000
END:STANDARD
BEGIN:DAYLIGHT
TZOFFSETFROM:+0100
TZOFFSETTO:+0200
TZNAME:CEST
DTSTART:20260329T010000
END:DAYLIGHT
BEGIN:STANDARD
TZOFFSETFROM:+0200
TZOFFSETTO:+0100
TZNAME:CET
DTSTART:20261025T010000
END:STANDARD
BEGIN:DAYLIGHT
TZOFFSETFROM:+0100
TZOFFSETTO:+0200
TZNAME:CEST
DTSTART:20270328T010000
END:DAYLIGHT
BEGIN:STANDARD
TZOFFSETFROM:+0200
TZOFFSETTO:+0100
TZNAME:CET
DTSTART:20271031T010000
END:STANDARD
END:VTIMEZONE
BEGIN:VEVENT
DTSTART;TZID=Europe/Rome:20260425T224500
DTEND;TZID=Europe/Rome:20260425T231500
DTSTAMP:20260424T155409
CREATED:20251222T085059Z
LAST-MODIFIED:20260210T102654Z
UID:1482-1777157100-1777158900@www.oshofestival.it
SUMMARY:And now...let’s celebrate!
DESCRIPTION:Dance and celebration after Sannyas.
URL:https://www.oshofestival.it/en/event/lets-celebrate-2/
CATEGORIES:Sala Rossa
ATTACH;FMTTYPE=image/png:https://www.oshofestival.it/wp-content/uploads/2026/01/Schermata-2026-02-01-alle-11.52.29-scaled.png
END:VEVENT
BEGIN:VEVENT
DTSTART;TZID=Europe/Rome:20260425T221500
DTEND;TZID=Europe/Rome:20260425T224500
DTSTAMP:20260424T155409
CREATED:20251222T110033Z
LAST-MODIFIED:20260210T102823Z
UID:3488-1777155300-1777157100@www.oshofestival.it
SUMMARY:Sannyas Celebration
DESCRIPTION:“I want this whole humanity to be one ocean of consciousness. Whatever the buddhas in the past did was good\, but not enough. They created for themselves the highest peak of consciousness. I would like to create that highest peak for everyone… at least for those who are in search of it.” Osho
URL:https://www.oshofestival.it/en/event/sannyas-celebration-3/
LOCATION:Sala Rossa
CATEGORIES:Sala Rossa
ATTACH;FMTTYPE=image/png:https://www.oshofestival.it/wp-content/uploads/2025/12/Schermata-2026-02-01-alle-11.44.47-scaled.png
END:VEVENT
BEGIN:VEVENT
DTSTART;TZID=Europe/Rome:20260425T214500
DTEND;TZID=Europe/Rome:20260425T221500
DTSTAMP:20260424T155409
CREATED:20251222T110032Z
LAST-MODIFIED:20260210T102924Z
UID:3489-1777153500-1777155300@www.oshofestival.it
SUMMARY:Dancing in the Heart
DESCRIPTION:Warming up the heart before Sannyas…
URL:https://www.oshofestival.it/en/event/dancing-in-the-heart-3/
LOCATION:Sala Rossa
CATEGORIES:Sala Rossa
ATTACH;FMTTYPE=image/jpeg:https://www.oshofestival.it/wp-content/uploads/2025/12/22_DSC6394.jpg
END:VEVENT
BEGIN:VEVENT
DTSTART;TZID=Europe/Rome:20260425T185000
DTEND;TZID=Europe/Rome:20260425T200000
DTSTAMP:20260424T155409
CREATED:20251222T110032Z
LAST-MODIFIED:20260210T103044Z
UID:3490-1777143000-1777147200@www.oshofestival.it
SUMMARY:OSHO Evening Meeting Meditation
DESCRIPTION:“That which cannot be said has to be experienced. This is a great experience of getting into the inner space. Something is experienced in this gathering which no one has been able to define. This is the highest peak of the whole day”. Osho
URL:https://www.oshofestival.it/en/event/meditazione-osho-evening-meeting-4/
LOCATION:Sala Rossa
CATEGORIES:Sala Rossa
ATTACH;FMTTYPE=image/png:https://www.oshofestival.it/wp-content/uploads/2025/12/Schermata-2026-02-01-alle-11.41.14-scaled.png
END:VEVENT
BEGIN:VEVENT
DTSTART;TZID=Europe/Rome:20260425T170000
DTEND;TZID=Europe/Rome:20260425T181000
DTSTAMP:20260424T155409
CREATED:20251222T110032Z
LAST-MODIFIED:20260210T113003Z
UID:3491-1777136400-1777140600@www.oshofestival.it
SUMMARY:OSHO Kundalini Meditation
DESCRIPTION:“When I say shake\, I mean your solidity\, your rocklike being should shake to the very foundations\, so it becomes liquid\, fluid\, melts\, flows.” Osho
URL:https://www.oshofestival.it/en/event/meditazione-osho-kundalini-6/
CATEGORIES:Sala Rossa
ATTACH;FMTTYPE=image/jpeg:https://www.oshofestival.it/wp-content/uploads/2025/12/65_DSC_4519.jpg
END:VEVENT
BEGIN:VEVENT
DTSTART;TZID=Europe/Rome:20260425T151000
DTEND;TZID=Europe/Rome:20260425T162000
DTSTAMP:20260424T155409
CREATED:20251222T110032Z
LAST-MODIFIED:20260210T113140Z
UID:3492-1777129800-1777134000@www.oshofestival.it
SUMMARY:Live Music Satsang Meditation
DESCRIPTION:Live music\, humming\, silence\, and Osho’s voice. Satsang is a Sanskrit word formed from two terms: truth and communion. A space for communion with oneself through meditation.
URL:https://www.oshofestival.it/en/event/live-music-satsang-meditation-3/
CATEGORIES:Manu e Nijen,Sala Blu
ATTACH;FMTTYPE=image/png:https://www.oshofestival.it/wp-content/uploads/2025/12/Schermata-2026-02-01-alle-11.33.30.png
END:VEVENT
BEGIN:VEVENT
DTSTART;TZID=Europe/Rome:20260425T150000
DTEND;TZID=Europe/Rome:20260425T163000
DTSTAMP:20260424T155409
CREATED:20251222T085021Z
LAST-MODIFIED:20260210T113823Z
UID:3493-1777129200-1777134600@www.oshofestival.it
SUMMARY:Intimacy and Conscious Relationships
DESCRIPTION:Relationships are often undermined by automatic and repetitive mechanisms that keep us “enslaved” to reactions\, expectations\, illusions\, disappointments\, escapism\, and blockages. This can happen with partners\, friends\, or family members…\nOften\, distance from others does not arise from a lack of love\, but from the way we react\, defend ourselves\, and protect ourselves.\nThese mechanisms originate in childhood\, where they guided and protected us\, for some good reason\, but when acted upon in adulthood\, they keep us in unhealthy relationships.\nIntimacy in a relationship grows if the feeling of being in a safe place with the other person grows\, and if we relate from the perspective of the present\, removing the interference of the protective instinct\, the cages of the past\, and the expectations of our own desires.\nDiscovering and observing our “survival” mechanism\, the mechanism that happens automatically within us\, can help us distance ourselves from it\, expanding our awareness towards new paths.\nResponding instead of reacting\, observing and accepting instead of expecting what we “imagined” would happen… perceiving and taking responsibility for our needs creates the groundwork for intimacy.\nThrough awareness and watchfulness exercises\, we will experience how to move from automatic reactions to conscious movements\, both towards ourselves and towards others.\nIntimacy can only arise from trust and openness to new ways\, new understandings\, new listening to our needs\, in order to see and welcome others where possible\, without forgetting ourselves\, without obligations and without guilt.\nIntimacy is not achieved: it is allowed to happen. It is the result of two presences that meet without hurry\, without masks\, without expecting anything — only with the willingness to truly be there.
URL:https://www.oshofestival.it/en/event/intimita-e-relazioni-consapevoli-2/
LOCATION:Sala Rossa
CATEGORIES:Sala Rossa,Siddho e Anurag
ATTACH;FMTTYPE=image/png:https://www.oshofestival.it/wp-content/uploads/2025/12/Schermata-2026-02-01-alle-11.22.41.png
END:VEVENT
BEGIN:VEVENT
DTSTART;TZID=Europe/Rome:20260425T114000
DTEND;TZID=Europe/Rome:20260425T125000
DTSTAMP:20260424T155409
CREATED:20251222T085020Z
LAST-MODIFIED:20260210T135309Z
UID:3494-1777117200-1777121400@www.oshofestival.it
SUMMARY:OSHO Vipassana Meditation
DESCRIPTION:Through breath awareness you can watch\, without being involved in it\, the dramas of the mind… which begin to slow down. The activity of thought calms down when you take away your involvement. This also brings to the surface and dissolves tensions. It is a deep cleansing.
URL:https://www.oshofestival.it/en/event/meditazione-osho-vipassana-3/
LOCATION:Sala Blu
CATEGORIES:Sala Blu
ATTACH;FMTTYPE=image/png:https://www.oshofestival.it/wp-content/uploads/2025/12/Schermata-2026-02-01-alle-10.38.25.png
END:VEVENT
BEGIN:VEVENT
DTSTART;TZID=Europe/Rome:20260425T113000
DTEND;TZID=Europe/Rome:20260425T130000
DTSTAMP:20260424T155409
CREATED:20251222T085019Z
LAST-MODIFIED:20260311T085813Z
UID:3495-1777116600-1777122000@www.oshofestival.it
SUMMARY:The Art of Disappearing
DESCRIPTION:Movement and meditation to let go of the ego.\nOf his many unique contributions to the world of meditation\, dance must be one of Osho’s most popular. As he explains\, we not only love to dance when we are joyful\, but dance also makes us joyful!\nImmersing ourselves in dance and in deep\, guided meditations\, we can effortlessly experience the beauty of letting go.
URL:https://www.oshofestival.it/en/event/larte-di-scomparire-2/
CATEGORIES:Maneesha James,Sala Rossa
ATTACH;FMTTYPE=image/jpeg:https://www.oshofestival.it/wp-content/uploads/2025/12/30-DSC_3998.jpg
END:VEVENT
BEGIN:VEVENT
DTSTART;TZID=Europe/Rome:20260425T094000
DTEND;TZID=Europe/Rome:20260425T105000
DTSTAMP:20260424T155409
CREATED:20251222T085018Z
LAST-MODIFIED:20260210T135819Z
UID:3496-1777110000-1777114200@www.oshofestival.it
SUMMARY:OSHO Laughter Meditation
DESCRIPTION:“Twenty minutes of laughter\, then twenty minutes of contact with the earth\, deep contact with the earth. Breathe with the earth\, feel one with the earth…. After these twenty energizing minutes – because the earth will give you so much energy that your dance will have a different quality – dance for twenty minutes.” Osho
URL:https://www.oshofestival.it/en/event/meditazione-osho-laughter-2/
LOCATION:Sala Blu
CATEGORIES:Sala Blu
ATTACH;FMTTYPE=image/png:https://www.oshofestival.it/wp-content/uploads/2025/12/Schermata-2026-02-01-alle-11.26.38.png
END:VEVENT
BEGIN:VEVENT
DTSTART;TZID=Europe/Rome:20260425T090000
DTEND;TZID=Europe/Rome:20260425T230000
DTSTAMP:20260424T155409
CREATED:20260112T163948Z
LAST-MODIFIED:20260210T135955Z
UID:3497-1777107600-1777158000@www.oshofestival.it
SUMMARY:Individual sessions bookable in the lobby
DESCRIPTION:Individual sessions offered by Osho Divine Healing Arts\, (ODHA)\, Osho Prana Healing (OPH) and Bio Dynamic Body Balancing.\nPlus table sessions such as Kirlian\, Aura Soma\, Tarot.\nAt the dedicated desk in the lobby fix the day and time to treat yourself to a session.\nYou can pay (cash) for your session directly at the desk.
URL:https://www.oshofestival.it/en/event/sessioni-individuali-8/
LOCATION:Foyer
CATEGORIES:Foyer
ATTACH;FMTTYPE=image/png:https://www.oshofestival.it/wp-content/uploads/2026/01/Schermata-2026-02-01-alle-10.55.45.png
END:VEVENT
BEGIN:VEVENT
DTSTART;TZID=Europe/Rome:20260425T083000
DTEND;TZID=Europe/Rome:20260425T110000
DTSTAMP:20260424T155410
CREATED:20251222T085011Z
LAST-MODIFIED:20260210T140212Z
UID:3498-1777105800-1777114800@www.oshofestival.it
SUMMARY:Humaniversity AUM Meditation
DESCRIPTION:An active and social meditation technique that through the expression of emotions leads to the silence and stillness of meditation. It is the most famous and most beloved social meditation created by Veeresh at the request of Osho. In a protected setting and together with many new friends we make our energy flow\, overcoming our fears with joy and love\, to get to our center\, to meditation.
URL:https://www.oshofestival.it/en/event/humaniversity-aum-meditation-2/
LOCATION:Sala Rossa
CATEGORIES:Sala Rossa,Somraj & The Humaniversity
ATTACH;FMTTYPE=image/jpeg:https://www.oshofestival.it/wp-content/uploads/2025/12/66-DSC_4515.jpg
END:VEVENT
BEGIN:VEVENT
DTSTART;TZID=Europe/Rome:20260425T070000
DTEND;TZID=Europe/Rome:20260425T081000
DTSTAMP:20260424T155410
CREATED:20251222T085010Z
LAST-MODIFIED:20260210T142525Z
UID:3499-1777100400-1777104600@www.oshofestival.it
SUMMARY:OSHO Dynamic Meditation
DESCRIPTION:“In this meditation you have to be continuously alert\, conscious\, aware\, whatsoever you do. The first step\, breathing; the second step\, catharsis; the third step\, the mantra\, ‘Hoo.’ And when everything stops\, and in the fourth step you have become completely inactive\, frozen\, then this alertness will come to its peak.” Osho
URL:https://www.oshofestival.it/en/event/meditazione-osho-dinamica-3/
LOCATION:Sala Rossa
CATEGORIES:Sala Rossa
ATTACH;FMTTYPE=image/png:https://www.oshofestival.it/wp-content/uploads/2025/12/Schermata-2026-02-01-alle-10.44.16.png
END:VEVENT
BEGIN:VEVENT
DTSTART;TZID=Europe/Rome:20260425T070000
DTEND;TZID=Europe/Rome:20260425T080000
DTSTAMP:20260424T155410
CREATED:20251222T085010Z
LAST-MODIFIED:20260210T140931Z
UID:3500-1777100400-1777104000@www.oshofestival.it
SUMMARY:Yoga: a return to oneself
DESCRIPTION:Through stillness\, spontaneous movements and listening movements\, attention is brought back to direct feeling.\nA space where the body and breath become a place of experience\, before experience becomes interpretation.
URL:https://www.oshofestival.it/en/event/yoga-un-ritorno-a-se-2/
LOCATION:Sala Blu
CATEGORIES:Ojas,Sala Blu
ATTACH;FMTTYPE=image/jpeg:https://www.oshofestival.it/wp-content/uploads/2025/12/57_DSC_4483.jpg
END:VEVENT
BEGIN:VEVENT
DTSTART;TZID=Europe/Rome:20260424T214500
DTEND;TZID=Europe/Rome:20260424T231500
DTSTAMP:20260424T155410
CREATED:20251222T085008Z
LAST-MODIFIED:20260210T101226Z
UID:3501-1777067100-1777072500@www.oshofestival.it
SUMMARY:Good Vibes
DESCRIPTION:Frequencies that join together and amplify vital energy. An evening of sound\, movement\, and relaxation with the magic of GONGHEART. An experience to be enjoyed with your whole body\, breath\, and heart.
URL:https://www.oshofestival.it/en/event/good-vibes-2/
CATEGORIES:Mahendra & Somraj,Sala Rossa
ATTACH;FMTTYPE=image/jpeg:https://www.oshofestival.it/wp-content/uploads/2025/12/mahendra-1000004574.jpg
END:VEVENT
BEGIN:VEVENT
DTSTART;TZID=Europe/Rome:20260424T214500
DTEND;TZID=Europe/Rome:20260424T225500
DTSTAMP:20260424T155410
CREATED:20251222T085009Z
LAST-MODIFIED:20260210T143019Z
UID:3502-1777067100-1777071300@www.oshofestival.it
SUMMARY:OSHO Gourishankar Meditation
DESCRIPTION:A technique that activates the third eye. Osho says that if you perform the initial breath phase correctly\, you will feel like you are on the peak of Mount Everest.
URL:https://www.oshofestival.it/en/event/meditazione-osho-gourishankar-2/
LOCATION:Sala Blu
CATEGORIES:Sala Blu
ATTACH;FMTTYPE=image/png:https://www.oshofestival.it/wp-content/uploads/2025/12/Schermata-2026-02-01-alle-10.51.45.png
END:VEVENT
BEGIN:VEVENT
DTSTART;TZID=Europe/Rome:20260424T185000
DTEND;TZID=Europe/Rome:20260424T200000
DTSTAMP:20260424T155410
CREATED:20251222T085005Z
LAST-MODIFIED:20260210T100832Z
UID:3503-1777056600-1777060800@www.oshofestival.it
SUMMARY:OSHO Evening Meeting Meditation
DESCRIPTION:“Every night\, these few moments are the most valuable in your life. Every evening\, when so many living buddhas gather here\, this place becomes the most important in the whole world. Because nowhere are so many people meditating together – digging so deep that they can find the very life source\, the eternity\, the deathlessness.” Osho
URL:https://www.oshofestival.it/en/event/meditazione-osho-evening-meeting-2/
LOCATION:Sala Rossa
CATEGORIES:Sala Rossa
ATTACH;FMTTYPE=image/jpeg:https://www.oshofestival.it/wp-content/uploads/2025/12/40-DSC_4063.jpg
END:VEVENT
BEGIN:VEVENT
DTSTART;TZID=Europe/Rome:20260424T170000
DTEND;TZID=Europe/Rome:20260424T181000
DTSTAMP:20260424T155410
CREATED:20251222T085004Z
LAST-MODIFIED:20260210T100727Z
UID:3504-1777050000-1777054200@www.oshofestival.it
SUMMARY:OSHO Kundalini Meditation
DESCRIPTION:The first 2 stages are shaking and dancing. And then the last 2 stages enable all this energy to flow vertically\, to move upwards into si­len­ce. It is a highly effective way of un­win­ding and letting go at the end of the day.
URL:https://www.oshofestival.it/en/event/meditazione-osho-kundalini-3/
LOCATION:Sala Rossa
CATEGORIES:Sala Rossa
ATTACH;FMTTYPE=image/jpeg:https://www.oshofestival.it/wp-content/uploads/2025/12/65_DSC_4519.jpg
END:VEVENT
BEGIN:VEVENT
DTSTART;TZID=Europe/Rome:20260424T151000
DTEND;TZID=Europe/Rome:20260424T162000
DTSTAMP:20260424T155410
CREATED:20251222T085004Z
LAST-MODIFIED:20260210T100610Z
UID:3505-1777043400-1777047600@www.oshofestival.it
SUMMARY:OSHO Nadabrahma Meditation
DESCRIPTION:The “humming” meditation… and the conflicting parts begin to tune in\, bringing harmony to your whole being.
URL:https://www.oshofestival.it/en/event/meditazione-osho-nadabrahma-2/
LOCATION:Sala Blu
CATEGORIES:Sala Blu
ATTACH;FMTTYPE=image/jpeg:https://www.oshofestival.it/wp-content/uploads/2025/12/84-DSC_5215.jpg
END:VEVENT
BEGIN:VEVENT
DTSTART;TZID=Europe/Rome:20260424T150000
DTEND;TZID=Europe/Rome:20260424T163000
DTSTAMP:20260424T155410
CREATED:20260102T141333Z
LAST-MODIFIED:20260210T100447Z
UID:3506-1777042800-1777048200@www.oshofestival.it
SUMMARY:Tantra & Emotions
DESCRIPTION:Dancing to Inner Delight – A Tantric experience \nIn daily life\, emotions are often feared\, suppressed\, or misunderstood. Many of us grow up believing that emotions are inconvenient or overwhelming\, especially in intimate relationships.\nYet emotion and life energy/eros arise from the same life force — energy moving through the body\, seeking awareness and expression.\nIn this event\, we’ll explore how to meet our emotions and our survival strategies not with fear or story\, but as energy. — using tantric practices to experience them directly through the body.\nWhen we drop the personal narrative\, something profound happens: what once felt like a burden becomes – it naturally reveals a source of joy and a sense of delight — a sense of coming home.\nThe very energy we once tried to avoid becomes available to nourish our meditation\, our relationships\, our sexuality\, creativity\, and connection.\nWhen the energy of our emotions is fully seen and free\, it becomes a source of joy and delight within ourselves.”
URL:https://www.oshofestival.it/en/event/tantra-emozioni-danzando-verso-la-gioia-interiore-un-viaggio-nel-tantra/
LOCATION:Sala Rossa
CATEGORIES:Anjori e Dhairya,Sala Rossa
ATTACH;FMTTYPE=image/jpeg:https://www.oshofestival.it/wp-content/uploads/2025/12/41-DSC_4156.jpg
END:VEVENT
BEGIN:VEVENT
DTSTART;TZID=Europe/Rome:20260424T114000
DTEND;TZID=Europe/Rome:20260424T125000
DTSTAMP:20260424T155410
CREATED:20251222T085002Z
LAST-MODIFIED:20260210T095241Z
UID:3507-1777030800-1777035000@www.oshofestival.it
SUMMARY:OSHO Vipassana Meditation
DESCRIPTION:Through breath awareness you can watch\, without being involved in it\, the dramas of the mind… which begin to slow down. The activity of thought calms down when you take away your involvement. This also brings to the surface and dissolves tensions. It is a deep cleansing.
URL:https://www.oshofestival.it/en/event/meditazione-osho-vipassana-2/
LOCATION:Sala Blu
CATEGORIES:Sala Blu
ATTACH;FMTTYPE=image/png:https://www.oshofestival.it/wp-content/uploads/2025/12/Schermata-2026-02-01-alle-10.38.25.png
END:VEVENT
BEGIN:VEVENT
DTSTART;TZID=Europe/Rome:20260424T113000
DTEND;TZID=Europe/Rome:20260424T130000
DTSTAMP:20260424T155410
CREATED:20251222T084954Z
LAST-MODIFIED:20260311T092913Z
UID:3508-1777030200-1777035600@www.oshofestival.it
SUMMARY:Living your best life
DESCRIPTION:Osho has provided us with so many meditative methods directly related to everyday life and to be practised in the moment – ways to keep connected to joy\, to awareness and to the vastness of who we are.\nIn this session we’ll play with a handful of them!
URL:https://www.oshofestival.it/en/event/vivi-la-tua-vita-piu-bella-2/
CATEGORIES:Maneesha James,Sala Rossa
ATTACH;FMTTYPE=image/png:https://www.oshofestival.it/wp-content/uploads/2025/12/Schermata-2026-01-31-alle-20.48.41.png
END:VEVENT
BEGIN:VEVENT
DTSTART;TZID=Europe/Rome:20260424T094000
DTEND;TZID=Europe/Rome:20260424T105000
DTSTAMP:20260424T155410
CREATED:20251222T084953Z
LAST-MODIFIED:20260210T095025Z
UID:3509-1777023600-1777027800@www.oshofestival.it
SUMMARY:OSHO Gibberish Meditation
DESCRIPTION:‘Gibberish’ is a word derived from the name of the Sufi mystic Jabbar: he never spoke in any known language\, he just spoke nonsense. It is a cathartic technique based on the use of expressive sounds and body movements\, followed by silent relaxation. Gibberish is one of the most scientific methods of clearing one’s mind.
URL:https://www.oshofestival.it/en/event/meditazione-osho-gibberish-2/
LOCATION:Sala Blu
CATEGORIES:Sala Blu
ATTACH;FMTTYPE=image/jpeg:https://www.oshofestival.it/wp-content/uploads/2025/12/38-DSC_4985.jpg
END:VEVENT
BEGIN:VEVENT
DTSTART;TZID=Europe/Rome:20260424T093000
DTEND;TZID=Europe/Rome:20260424T110000
DTSTAMP:20260424T155410
CREATED:20260102T141302Z
LAST-MODIFIED:20260210T094837Z
UID:3510-1777023000-1777028400@www.oshofestival.it
SUMMARY:Tantric Breath
DESCRIPTION:Male and Female Meeting \nTantric Breath teaches you to accept\, love and transform yourself by powerful Breathing Techniques. You gently open your life energy flow and release old fears around intimacy. You relax into the beauty of your body and experience the greatest gift in life: to open your heart for the joy of being alive Tantra says open yourself for the natural meeting of your female and your male energies. There you will find great joy and inner harmony. A new dimension of relating will come into your existence. Come to dance\, breathe\, meet and connect in a meaningful way. \n«To transform sex into spirituality is my basic approach. Meditation and love should go hand in hand. If we can create a world where lovers are meditators too\, then there will be no problem». OSHO
URL:https://www.oshofestival.it/en/event/respiro-tantrico-incontro-tra-maschile-e-femminile/
LOCATION:Sala Rossa
CATEGORIES:Sala Rossa,Shanti
ATTACH;FMTTYPE=image/png:https://www.oshofestival.it/wp-content/uploads/2026/01/Schermata-2026-02-01-alle-10.33.42.png
END:VEVENT
BEGIN:VEVENT
DTSTART;TZID=Europe/Rome:20260424T090000
DTEND;TZID=Europe/Rome:20260424T230000
DTSTAMP:20260424T155410
CREATED:20260112T163723Z
LAST-MODIFIED:20260210T143221Z
UID:3511-1777021200-1777071600@www.oshofestival.it
SUMMARY:Individual sessions bookable in the lobby
DESCRIPTION:Individual sessions offered by Osho Divine Healing Arts\, (ODHA)\, Osho Prana Healing (OPH) and Bio Dynamic Body Balancing.\nPlus table sessions such as Kirlian\, Aura Soma\, Tarot.\nAt the dedicated desk in the lobby fix the day and time to treat yourself to a session.\nYou can pay (cash) for your session directly at the desk.
URL:https://www.oshofestival.it/en/event/sessioni-individuali-7/
LOCATION:Foyer
CATEGORIES:Foyer
ATTACH;FMTTYPE=image/png:https://www.oshofestival.it/wp-content/uploads/2026/01/Schermata-2026-02-01-alle-10.28.02-scaled.png
END:VEVENT
BEGIN:VEVENT
DTSTART;TZID=Europe/Rome:20260424T070000
DTEND;TZID=Europe/Rome:20260424T081000
DTSTAMP:20260424T155410
CREATED:20251222T084947Z
LAST-MODIFIED:20260210T094156Z
UID:3512-1777014000-1777018200@www.oshofestival.it
SUMMARY:OSHO Dynamic Meditation
DESCRIPTION:This meditation is a fast\, intense and thorough way to break old\, ingrained patterns in the bodymind that keep one imprisoned in the past\, and to experience the freedom\, the witnessing\, silence and peace that are our real self.
URL:https://www.oshofestival.it/en/event/meditazione-osho-dinamica-2/
CATEGORIES:Sala Rossa
ATTACH;FMTTYPE=image/jpeg:https://www.oshofestival.it/wp-content/uploads/2025/12/52-DSC_4333.jpg
END:VEVENT
BEGIN:VEVENT
DTSTART;TZID=Europe/Rome:20260424T070000
DTEND;TZID=Europe/Rome:20260424T080000
DTSTAMP:20260424T155410
CREATED:20251222T084951Z
LAST-MODIFIED:20260210T093652Z
UID:3513-1777014000-1777017600@www.oshofestival.it
SUMMARY:Osho-do practice
DESCRIPTION:Osho Do is the martial art of the Humaniversity\, and its goal is friendship.\nThrough conscious movement\, we learn to take a clear position in life – present\, open\, and alert. A practice that brings clarity\, confidence\, and deep centering\, supporting a full and conscious life.
URL:https://www.oshofestival.it/en/event/esercizi-di-osho-do-2/
LOCATION:Sala Blu
CATEGORIES:Bhavani e Kiran – Humaniversity,Sala Blu
ATTACH;FMTTYPE=image/jpeg:https://www.oshofestival.it/wp-content/uploads/2025/12/60-DSC_5186.jpg
END:VEVENT
BEGIN:VEVENT
DTSTART;TZID=Europe/Rome:20260423T214500
DTEND;TZID=Europe/Rome:20260423T231500
DTSTAMP:20260424T155410
CREATED:20251222T084946Z
LAST-MODIFIED:20260209T154454Z
UID:3514-1776980700-1776986100@www.oshofestival.it
SUMMARY:The Joy of Meeting
DESCRIPTION:A journey to rediscover ourselves and open to new friendships.\nWe will meet in a playful and light way\, among new faces and longtime friends — a celebration of coming together: dancing\, laughing\, hugging…
URL:https://www.oshofestival.it/en/event/la-gioia-di-incontrarci-2/
CATEGORIES:Bhavani e Kiran – Humaniversity,Sala Rossa
ATTACH;FMTTYPE=image/jpeg:https://www.oshofestival.it/wp-content/uploads/2025/12/53-DSC_4442.jpg
END:VEVENT
BEGIN:VEVENT
DTSTART;TZID=Europe/Rome:20260423T214500
DTEND;TZID=Europe/Rome:20260423T225500
DTSTAMP:20260424T155410
CREATED:20251222T084946Z
LAST-MODIFIED:20260210T092936Z
UID:3515-1776980700-1776984900@www.oshofestival.it
SUMMARY:OSHO Devavani Meditation
DESCRIPTION:It means ‘divine voice’. An ancient technique that is even found in the Old Testament under the name ‘glossolalia’ … It deeply relaxes the conscious mind to the point that\, if done as the last activity of the day\, it will be followed by a deep sleep.
URL:https://www.oshofestival.it/en/event/meditazione-osho-devavani-2/
LOCATION:Sala Blu
CATEGORIES:Sala Blu
ATTACH;FMTTYPE=image/jpeg:https://www.oshofestival.it/wp-content/uploads/2025/12/65-DSC_4481.jpg
END:VEVENT
BEGIN:VEVENT
DTSTART;TZID=Europe/Rome:20260423T185000
DTEND;TZID=Europe/Rome:20260423T200000
DTSTAMP:20260424T155410
CREATED:20251222T084945Z
LAST-MODIFIED:20260209T154000Z
UID:3516-1776970200-1776974400@www.oshofestival.it
SUMMARY:OSHO Kundalini Meditation
DESCRIPTION:This meditation finds its best moment if done at sunset or late afternoon. Letting go totally into shaking and dancing during the first two stages helps dissolve stiffness wherever the flow of energy has been repressed and blocked. Then energy can flow\, dance\, and be transformed into joy and bliss.
URL:https://www.oshofestival.it/en/event/meditazione-osho-kundalini-2/
LOCATION:Sala Rossa
CATEGORIES:Sala Rossa
ATTACH;FMTTYPE=image/jpeg:https://www.oshofestival.it/wp-content/uploads/2025/12/65_DSC_4519.jpg
END:VEVENT
END:VCALENDAR