BEGIN:VCALENDAR
VERSION:2.0
PRODID:-//Oshofestival - ECPv6.15.20//NONSGML v1.0//EN
CALSCALE:GREGORIAN
METHOD:PUBLISH
X-ORIGINAL-URL:https://www.oshofestival.it
X-WR-CALDESC:Events for Oshofestival
REFRESH-INTERVAL;VALUE=DURATION:PT1H
X-Robots-Tag:noindex
X-PUBLISHED-TTL:PT1H
BEGIN:VTIMEZONE
TZID:Europe/Rome
BEGIN:DAYLIGHT
TZOFFSETFROM:+0100
TZOFFSETTO:+0200
TZNAME:CEST
DTSTART:20250330T010000
END:DAYLIGHT
BEGIN:STANDARD
TZOFFSETFROM:+0200
TZOFFSETTO:+0100
TZNAME:CET
DTSTART:20251026T010000
END:STANDARD
BEGIN:DAYLIGHT
TZOFFSETFROM:+0100
TZOFFSETTO:+0200
TZNAME:CEST
DTSTART:20260329T010000
END:DAYLIGHT
BEGIN:STANDARD
TZOFFSETFROM:+0200
TZOFFSETTO:+0100
TZNAME:CET
DTSTART:20261025T010000
END:STANDARD
BEGIN:DAYLIGHT
TZOFFSETFROM:+0100
TZOFFSETTO:+0200
TZNAME:CEST
DTSTART:20270328T010000
END:DAYLIGHT
BEGIN:STANDARD
TZOFFSETFROM:+0200
TZOFFSETTO:+0100
TZNAME:CET
DTSTART:20271031T010000
END:STANDARD
END:VTIMEZONE
BEGIN:VEVENT
DTSTART;TZID=Europe/Rome:20260426T114000
DTEND;TZID=Europe/Rome:20260426T125000
DTSTAMP:20260424T142129
CREATED:20251222T110044Z
LAST-MODIFIED:20260209T133132Z
UID:3481-1777203600-1777207800@www.oshofestival.it
SUMMARY:OSHO Nadabrahma Meditation
DESCRIPTION:The “humming” meditation… and the conflicting parts begin to tune in\, bringing harmony to your whole being.
URL:https://www.oshofestival.it/en/event/meditazione-osho-nadabrahma-4/
CATEGORIES:Sala Blu
ATTACH;FMTTYPE=image/jpeg:https://www.oshofestival.it/wp-content/uploads/2025/12/84-DSC_5215.jpg
END:VEVENT
BEGIN:VEVENT
DTSTART;TZID=Europe/Rome:20260426T150000
DTEND;TZID=Europe/Rome:20260426T163000
DTSTAMP:20260424T142129
CREATED:20260207T083000Z
LAST-MODIFIED:20260210T134916Z
UID:3151-1777215600-1777221000@www.oshofestival.it
SUMMARY:Amome® Open Your Heart
DESCRIPTION:A great collective event\, bringing us all together in our hearts to conclude the Osho Festival 2026.\nThe space of the heart is a metaphysical place located in the center of the chest\, a crossroads between the earthly and spiritual chakras. Opening the heart is a way of connecting with the original energy\, the energy of unconditional love\, cleansed of the patterns of personality clashes. A nourishing energy that brings us back to our most authentic selves. A way to open ourselves to the wonderful fragrance of existence with our feet firmly anchored to the ground and our heads free to spread their wings…
URL:https://www.oshofestival.it/en/event/amome-open-your-heart-5/
LOCATION:Sala Rossa
CATEGORIES:Aseel,Sala Rossa
ATTACH;FMTTYPE=image/png:https://www.oshofestival.it/wp-content/uploads/2025/12/Schermata-2026-02-01-alle-11.05.21-scaled.png
END:VEVENT
BEGIN:VEVENT
DTSTART;TZID=Europe/Rome:20260426T163000
DTEND;TZID=Europe/Rome:20260426T164500
DTSTAMP:20260424T142129
CREATED:20251222T110046Z
LAST-MODIFIED:20260209T143529Z
UID:3480-1777221000-1777221900@www.oshofestival.it
SUMMARY:Goodbye
DESCRIPTION:And see you next year…
URL:https://www.oshofestival.it/en/event/arrivederci-3/
LOCATION:Sala Rossa
CATEGORIES:Sala Rossa
ATTACH;FMTTYPE=image/jpeg:https://www.oshofestival.it/wp-content/uploads/2025/12/02-DSC_0087.jpg
END:VEVENT
BEGIN:VEVENT
DTSTART;TZID=Europe/Rome:20260426T170000
DTEND;TZID=Europe/Rome:20260426T180000
DTSTAMP:20260424T142129
CREATED:20251222T085118Z
LAST-MODIFIED:20260209T132604Z
UID:3479-1777222800-1777226400@www.oshofestival.it
SUMMARY:OSHO Kundalini Meditation
DESCRIPTION:Dissolve all rigidity and flow with energy. Becoming totally immersed in shaking and dancing helps to dissolve rigidity wherever the flow of energy has been repressed and blocked.
URL:https://www.oshofestival.it/en/event/meditazione-osho-kundalini-5/
LOCATION:Sala Rossa
CATEGORIES:Sala Rossa
ATTACH;FMTTYPE=image/jpeg:https://www.oshofestival.it/wp-content/uploads/2025/12/65_DSC_4519.jpg
END:VEVENT
END:VCALENDAR