BEGIN:VCALENDAR
VERSION:2.0
PRODID:-//Oshofestival - ECPv6.15.20//NONSGML v1.0//EN
CALSCALE:GREGORIAN
METHOD:PUBLISH
X-WR-CALNAME:Oshofestival
X-ORIGINAL-URL:https://www.oshofestival.it
X-WR-CALDESC:Eventi per Oshofestival
REFRESH-INTERVAL;VALUE=DURATION:PT1H
X-Robots-Tag:noindex
X-PUBLISHED-TTL:PT1H
BEGIN:VTIMEZONE
TZID:Europe/Rome
BEGIN:DAYLIGHT
TZOFFSETFROM:+0100
TZOFFSETTO:+0200
TZNAME:CEST
DTSTART:20250330T010000
END:DAYLIGHT
BEGIN:STANDARD
TZOFFSETFROM:+0200
TZOFFSETTO:+0100
TZNAME:CET
DTSTART:20251026T010000
END:STANDARD
BEGIN:DAYLIGHT
TZOFFSETFROM:+0100
TZOFFSETTO:+0200
TZNAME:CEST
DTSTART:20260329T010000
END:DAYLIGHT
BEGIN:STANDARD
TZOFFSETFROM:+0200
TZOFFSETTO:+0100
TZNAME:CET
DTSTART:20261025T010000
END:STANDARD
BEGIN:DAYLIGHT
TZOFFSETFROM:+0100
TZOFFSETTO:+0200
TZNAME:CEST
DTSTART:20270328T010000
END:DAYLIGHT
BEGIN:STANDARD
TZOFFSETFROM:+0200
TZOFFSETTO:+0100
TZNAME:CET
DTSTART:20271031T010000
END:STANDARD
END:VTIMEZONE
BEGIN:VEVENT
DTSTART;TZID=Europe/Rome:20260424T070000
DTEND;TZID=Europe/Rome:20260424T080000
DTSTAMP:20260424T112805
CREATED:20251222T084951Z
LAST-MODIFIED:20260131T193745Z
UID:1457-1777014000-1777017600@www.oshofestival.it
SUMMARY:Esercizi di Osho-do
DESCRIPTION:Osho-do è l’arte marziale della Humaniversity e il suo scopo è l’amicizia.\nMovimenti consapevoli ci conducono a poter prendere una posizione chiara nella vita\, presenti\, aperti e vigili.\nUna pratica che porta chiarezza\, sicurezza e profonda centratura\, per una vita piena e consapevole.
URL:https://www.oshofestival.it/event/esercizi-di-osho-do-2/
LOCATION:Sala Blu
CATEGORIES:Bhavani e Kiran,Sala Blu
ATTACH;FMTTYPE=image/jpeg:https://www.oshofestival.it/wp-content/uploads/2025/12/60-DSC_5186.jpg
END:VEVENT
BEGIN:VEVENT
DTSTART;TZID=Europe/Rome:20260424T070000
DTEND;TZID=Europe/Rome:20260424T081000
DTSTAMP:20260424T112806
CREATED:20251222T084947Z
LAST-MODIFIED:20260131T193926Z
UID:1456-1777014000-1777018200@www.oshofestival.it
SUMMARY:Meditazione OSHO Dinamica
DESCRIPTION:La Meditazione Attiva di Osho per eccellenza. Un modo rapido\, intenso\, profondo e diretto per rompere schemi e modelli atavici e fortemente radicati nel corpomente\, qualcosa che tiene imprigionati nel passato\, così da sperimentare la libertà\, l’essere un testimone\, il silenzio e la pace.
URL:https://www.oshofestival.it/event/meditazione-osho-dinamica-2/
CATEGORIES:Sala Rossa
ATTACH;FMTTYPE=image/jpeg:https://www.oshofestival.it/wp-content/uploads/2025/12/52-DSC_4333.jpg
END:VEVENT
BEGIN:VEVENT
DTSTART;TZID=Europe/Rome:20260424T090000
DTEND;TZID=Europe/Rome:20260424T230000
DTSTAMP:20260424T112806
CREATED:20260112T163723Z
LAST-MODIFIED:20260201T095818Z
UID:2615-1777021200-1777071600@www.oshofestival.it
SUMMARY:Sessioni individuali
DESCRIPTION:Sessioni individuali di bodywork proposte da Osho Divine Healing Arts\, (ODHA)\, da Osho Prana Healing (OPH) e da Body Balancing Bio Dinamico e altri. E poi sessioni al tavolo come Kirlian\, Aura Soma\, Tarocchi…\nAffrettati a fissare – presso il tavolo nell’atrio – il giorno e l’ora in cui regalarti una sessione per assicurarti il momento giusto per te.
URL:https://www.oshofestival.it/event/sessioni-individuali-7/
LOCATION:Foyer
CATEGORIES:Foyer
ATTACH;FMTTYPE=image/png:https://www.oshofestival.it/wp-content/uploads/2026/01/Schermata-2026-02-01-alle-10.28.02-scaled.png
END:VEVENT
BEGIN:VEVENT
DTSTART;TZID=Europe/Rome:20260424T093000
DTEND;TZID=Europe/Rome:20260424T110000
DTSTAMP:20260424T112806
CREATED:20260102T141302Z
LAST-MODIFIED:20260201T093424Z
UID:2024-1777023000-1777028400@www.oshofestival.it
SUMMARY:Respiro Tantrico
DESCRIPTION:Incontro tra Maschile e Femminile\nIl respiro tantrico ti insegna ad accettare\, amare e trasformare te stesso attraverso potenti tecniche di respirazione. Apri delicatamente il flusso della tua energia vitale e ti liberi dalle vecchie paure legate all’intimità. Ti rilassi nella bellezza del tuo corpo e sperimenti il dono più grande della vita: aprire il tuo cuore alla gioia di essere vivo.\nIl Tantra dice di aprirti all’incontro naturale delle tue energie femminili e maschili. Lì troverai grande gioia e armonia interiore. Una nuova dimensione di relazione entrerà nella tua esistenza. Vieni a ballare\, respirare\, incontrare e connetterti in modo significativo.\n“Trasformare il sesso in spiritualità è il mio approccio di base. La meditazione e l’amore dovrebbero andare di pari passo”.\n“Se riusciamo a creare un mondo in cui anche gli amanti sono meditatori\, allora non ci saranno problemi”. OSHO
URL:https://www.oshofestival.it/event/respiro-tantrico-incontro-tra-maschile-e-femminile/
LOCATION:Sala Rossa
CATEGORIES:Sala Rossa,Shanti
ATTACH;FMTTYPE=image/png:https://www.oshofestival.it/wp-content/uploads/2026/01/Schermata-2026-02-01-alle-10.33.42.png
END:VEVENT
BEGIN:VEVENT
DTSTART;TZID=Europe/Rome:20260424T094000
DTEND;TZID=Europe/Rome:20260424T105000
DTSTAMP:20260424T112806
CREATED:20251222T084953Z
LAST-MODIFIED:20260131T194424Z
UID:1460-1777023600-1777027800@www.oshofestival.it
SUMMARY:Meditazione OSHO Gibberish
DESCRIPTION:“Gibberish” è una parola che deriva dal nome del mistico Sufi Jabbar: non parlò mai in nessuna lingua conosciuta\, si limitò a dire cose senza senso. È una tecnica catartica basata sull’utilizzo di suoni espressivi e movimenti del corpo\, seguiti da un rilassamento silenzioso. Il gibberish è uno dei metodi più scientifici per ripulire la propria mente.
URL:https://www.oshofestival.it/event/meditazione-osho-gibberish-2/
LOCATION:Sala Blu
CATEGORIES:Sala Blu
ATTACH;FMTTYPE=image/jpeg:https://www.oshofestival.it/wp-content/uploads/2025/12/38-DSC_4985.jpg
END:VEVENT
BEGIN:VEVENT
DTSTART;TZID=Europe/Rome:20260424T113000
DTEND;TZID=Europe/Rome:20260424T130000
DTSTAMP:20260424T112806
CREATED:20251222T084954Z
LAST-MODIFIED:20260131T194937Z
UID:1461-1777030200-1777035600@www.oshofestival.it
SUMMARY:Vivi la tua vita più bella
DESCRIPTION:Metodi per accettare ciò che è e mantenere viva la gioia.\nOsho ci ha fornito tanti metodi meditativi direttamente collegati alla vita quotidiana e da praticare nel momento: strumenti per rimanere connessi alla gioia\, alla consapevolezza e alla vastità di ciò che siamo.\nIn questa sessione ne sperimenteremo alcuni!
URL:https://www.oshofestival.it/event/vivi-la-tua-vita-piu-bella-2/
CATEGORIES:Maneesha James,Sala Rossa
ATTACH;FMTTYPE=image/png:https://www.oshofestival.it/wp-content/uploads/2025/12/Schermata-2026-01-31-alle-20.48.41.png
END:VEVENT
BEGIN:VEVENT
DTSTART;TZID=Europe/Rome:20260424T114000
DTEND;TZID=Europe/Rome:20260424T125000
DTSTAMP:20260424T112806
CREATED:20251222T085002Z
LAST-MODIFIED:20260201T093906Z
UID:1462-1777030800-1777035000@www.oshofestival.it
SUMMARY:Meditazione OSHO Vipassana
DESCRIPTION:La Vipassana è un processo molto semplice. C’è solo il respiro che entra ed esce. Buddha dice di osservarlo\, seduto in silenzio\, di diventarne consapevole. Piano piano la mente lascia il posto al misterioso testimone interiore.
URL:https://www.oshofestival.it/event/meditazione-osho-vipassana-2/
LOCATION:Sala Blu
CATEGORIES:Sala Blu
ATTACH;FMTTYPE=image/png:https://www.oshofestival.it/wp-content/uploads/2025/12/Schermata-2026-02-01-alle-10.38.25.png
END:VEVENT
BEGIN:VEVENT
DTSTART;TZID=Europe/Rome:20260424T150000
DTEND;TZID=Europe/Rome:20260424T163000
DTSTAMP:20260424T112806
CREATED:20260102T141333Z
LAST-MODIFIED:20260131T195723Z
UID:2028-1777042800-1777048200@www.oshofestival.it
SUMMARY:Tantra & Emozioni
DESCRIPTION:Danzando verso la Gioia Interiore – Un viaggio nel Tantra\nNella vita quotidiana\, le emozioni sono spesso temute\, represse o fraintese. Molti di noi crescono credendo che le emozioni siano scomode o travolgenti\, specialmente nelle relazioni intime.\nEppure\, l’emozione e l’energia vitale/eros provengono dalla stessa forza vitale\, energia che si muove attraverso il corpo\, cercando consapevolezza ed espressione.\nIn questo evento\, esploreremo come incontrare le nostre emozioni e le nostre strategie di sopravvivenza non con paura o la nostra storia personale\, ma come energia\, utilizzando pratiche tantriche per viverle direttamente attraverso il corpo.\nQuando lasciamo cadere la narrazione personale\, accade qualcosa di profondo: ciò che un tempo era sentito come un peso si rivela naturalmente una fonte di gioia e di delizia\, una sensazione di tornare a casa.\nL’energia stessa che un tempo cercavamo di evitare diventa disponibile per nutrire la nostra meditazione\, le nostre relazioni\, la nostra sessualità\, la creatività e la connessione.\nQuando l’energia delle nostre emozioni è pienamente vista e libera\, diventa una fonte di gioia e delizia dentro di noi…
URL:https://www.oshofestival.it/event/tantra-emozioni-danzando-verso-la-gioia-interiore-un-viaggio-nel-tantra/
LOCATION:Sala Rossa
CATEGORIES:Anjori e Dhairya,Sala Rossa
ATTACH;FMTTYPE=image/jpeg:https://www.oshofestival.it/wp-content/uploads/2025/12/41-DSC_4156.jpg
END:VEVENT
BEGIN:VEVENT
DTSTART;TZID=Europe/Rome:20260424T151000
DTEND;TZID=Europe/Rome:20260424T162000
DTSTAMP:20260424T112806
CREATED:20251222T085004Z
LAST-MODIFIED:20260131T195847Z
UID:1464-1777043400-1777047600@www.oshofestival.it
SUMMARY:Meditazione OSHO Nadabrahma
DESCRIPTION:La meditazione dell’humming: le parti in conflitto iniziano a sintonizzarsi\, portando armonia a tutto il tuo essere. Se sei perso nel tuo canto\, sei perso nel nadabrahma\, sei perso nel suono senza suono. È un’antica tecnica tibetana\, usata da secoli per centrarsi. Si pratica da seduti\, si usa la voce e si fanno alcuni movimenti con le braccia con l’aiuto di una musica molto bella.
URL:https://www.oshofestival.it/event/meditazione-osho-nadabrahma-2/
LOCATION:Sala Blu
CATEGORIES:Sala Blu
ATTACH;FMTTYPE=image/jpeg:https://www.oshofestival.it/wp-content/uploads/2025/12/84-DSC_5215.jpg
END:VEVENT
BEGIN:VEVENT
DTSTART;TZID=Europe/Rome:20260424T170000
DTEND;TZID=Europe/Rome:20260424T181000
DTSTAMP:20260424T112806
CREATED:20251222T085004Z
LAST-MODIFIED:20260131T171403Z
UID:1465-1777050000-1777054200@www.oshofestival.it
SUMMARY:Meditazione OSHO Kundalini
DESCRIPTION:Immergersi totalmente nello scuotimento e nella danza durante i primi due stadi aiuta a sciogliere il nostro essere rigidi come sassi\, in qualsiasi punto il fluire dell’energia sia stato represso e bloccato. Gli ultimi due stadi permettono a tutta questa energia di scorrere verticalmente\, di muoversi verso l’alto nel silenzio. Un modo estremamente efficace di sciogliersi e rilassarsi\, lasciandosi andare alla fine della giornata.
URL:https://www.oshofestival.it/event/meditazione-osho-kundalini-3/
LOCATION:Sala Rossa
CATEGORIES:Sala Rossa
ATTACH;FMTTYPE=image/jpeg:https://www.oshofestival.it/wp-content/uploads/2025/12/65_DSC_4519.jpg
END:VEVENT
BEGIN:VEVENT
DTSTART;TZID=Europe/Rome:20260424T185000
DTEND;TZID=Europe/Rome:20260424T200000
DTSTAMP:20260424T112806
CREATED:20251222T085005Z
LAST-MODIFIED:20260131T200000Z
UID:1466-1777056600-1777060800@www.oshofestival.it
SUMMARY:Meditazione OSHO Evening Meeting
DESCRIPTION:Una profonda esperienza per entrare nello spazio interiore. La Meditazione della sera definita da Osho “un dissolversi nell’oceano della consapevolezza. Ciò che non si può dire\, dev’essere sperimentato. Questa è una grande esperien¬za per entrare nello spazio interiore.”
URL:https://www.oshofestival.it/event/meditazione-osho-evening-meeting-2/
LOCATION:Sala Rossa
CATEGORIES:Sala Rossa
ATTACH;FMTTYPE=image/jpeg:https://www.oshofestival.it/wp-content/uploads/2025/12/40-DSC_4063.jpg
END:VEVENT
BEGIN:VEVENT
DTSTART;TZID=Europe/Rome:20260424T214500
DTEND;TZID=Europe/Rome:20260424T225500
DTSTAMP:20260424T112806
CREATED:20251222T085009Z
LAST-MODIFIED:20260201T095250Z
UID:1468-1777067100-1777071300@www.oshofestival.it
SUMMARY:Meditazione OSHO Gourishankar
DESCRIPTION:Una tecnica che attiva il terzo occhio. Osho dice che se esegui correttamente la fase di respiro iniziale\, ti sentirai come sulla vetta dell’Everest.
URL:https://www.oshofestival.it/event/meditazione-osho-gourishankar-2/
LOCATION:Sala Blu
CATEGORIES:Sala Blu
ATTACH;FMTTYPE=image/png:https://www.oshofestival.it/wp-content/uploads/2025/12/Schermata-2026-02-01-alle-10.51.45.png
END:VEVENT
BEGIN:VEVENT
DTSTART;TZID=Europe/Rome:20260424T214500
DTEND;TZID=Europe/Rome:20260424T231500
DTSTAMP:20260424T112806
CREATED:20251222T085008Z
LAST-MODIFIED:20260131T200057Z
UID:1467-1777067100-1777072500@www.oshofestival.it
SUMMARY:Good Vibes
DESCRIPTION:Frequenze che si uniscono e amplificano l’energia vitale. Una serata di suono\, movimento e relax con la magia di GONGHEART. Un’esperienza da vivere con tutto il corpo\, il respiro\, il cuore.
URL:https://www.oshofestival.it/event/good-vibes-2/
CATEGORIES:Mahendra & Somraj,Sala Rossa
ATTACH;FMTTYPE=image/jpeg:https://www.oshofestival.it/wp-content/uploads/2025/12/mahendra-1000004574.jpg
END:VEVENT
END:VCALENDAR