BEGIN:VCALENDAR
VERSION:2.0
PRODID:-//Oshofestival - ECPv6.15.20//NONSGML v1.0//EN
CALSCALE:GREGORIAN
METHOD:PUBLISH
X-WR-CALNAME:Oshofestival
X-ORIGINAL-URL:https://www.oshofestival.it
X-WR-CALDESC:Eventi per Oshofestival
REFRESH-INTERVAL;VALUE=DURATION:PT1H
X-Robots-Tag:noindex
X-PUBLISHED-TTL:PT1H
BEGIN:VTIMEZONE
TZID:Europe/Rome
BEGIN:DAYLIGHT
TZOFFSETFROM:+0100
TZOFFSETTO:+0200
TZNAME:CEST
DTSTART:20250330T010000
END:DAYLIGHT
BEGIN:STANDARD
TZOFFSETFROM:+0200
TZOFFSETTO:+0100
TZNAME:CET
DTSTART:20251026T010000
END:STANDARD
BEGIN:DAYLIGHT
TZOFFSETFROM:+0100
TZOFFSETTO:+0200
TZNAME:CEST
DTSTART:20260329T010000
END:DAYLIGHT
BEGIN:STANDARD
TZOFFSETFROM:+0200
TZOFFSETTO:+0100
TZNAME:CET
DTSTART:20261025T010000
END:STANDARD
BEGIN:DAYLIGHT
TZOFFSETFROM:+0100
TZOFFSETTO:+0200
TZNAME:CEST
DTSTART:20270328T010000
END:DAYLIGHT
BEGIN:STANDARD
TZOFFSETFROM:+0200
TZOFFSETTO:+0100
TZNAME:CET
DTSTART:20271031T010000
END:STANDARD
END:VTIMEZONE
BEGIN:VEVENT
DTSTART;TZID=Europe/Rome:20260425T070000
DTEND;TZID=Europe/Rome:20260425T080000
DTSTAMP:20260424T124909
CREATED:20251222T085010Z
LAST-MODIFIED:20260131T200628Z
UID:1470-1777100400-1777104000@www.oshofestival.it
SUMMARY:Yoga: un ritorno a sé
DESCRIPTION:Attraverso l’immobilità\, movimenti spontanei e movimenti di ascolto\, l’attenzione viene riportata al sentire diretto.\nUno spazio in cui il corpo e il respiro diventano luogo di esperienza\, prima che l’esperienza diventi interpretazione.
URL:https://www.oshofestival.it/event/yoga-un-ritorno-a-se-2/
LOCATION:Sala Blu
CATEGORIES:Ojas,Sala Blu
ATTACH;FMTTYPE=image/jpeg:https://www.oshofestival.it/wp-content/uploads/2025/12/57_DSC_4483.jpg
END:VEVENT
BEGIN:VEVENT
DTSTART;TZID=Europe/Rome:20260425T070000
DTEND;TZID=Europe/Rome:20260425T081000
DTSTAMP:20260424T124909
CREATED:20251222T085010Z
LAST-MODIFIED:20260201T094530Z
UID:1469-1777100400-1777104600@www.oshofestival.it
SUMMARY:Meditazione OSHO Dinamica
DESCRIPTION:“Una meditazione in cui essere continuamente attento\, cosciente\, consapevole\, qualsiasi cosa fai. Il primo passo\, il respiro; il secondo passo\, la catarsi; il terzo passo\, il mantra\, ‘Hu’. E quando tutto si ferma\, e nel quarto passo sei diventato completamente inattivo\, congelato\, allora questa presenza sveglia raggiungerà il suo apice”. Osho.
URL:https://www.oshofestival.it/event/meditazione-osho-dinamica-3/
LOCATION:Sala Rossa
CATEGORIES:Sala Rossa
ATTACH;FMTTYPE=image/png:https://www.oshofestival.it/wp-content/uploads/2025/12/Schermata-2026-02-01-alle-10.44.16.png
END:VEVENT
BEGIN:VEVENT
DTSTART;TZID=Europe/Rome:20260425T083000
DTEND;TZID=Europe/Rome:20260425T110000
DTSTAMP:20260424T124909
CREATED:20251222T085011Z
LAST-MODIFIED:20260131T200731Z
UID:1471-1777105800-1777114800@www.oshofestival.it
SUMMARY:Humaniversity AUM Meditation
DESCRIPTION:Una tecnica di meditazione attiva e sociale che attraverso l’espressione delle emozioni porta al silenzio e alla quiete della meditazione. È la meditazione sociale più famosa e più amata creata da Veeresh su richiesta di Osho.\nIn un contesto protetto e insieme a tanti nuovi amici facciamo fluire la nostra energia superando con gioia e amore le nostre paure\, per arrivare al nostro centro\, alla meditazione.
URL:https://www.oshofestival.it/event/humaniversity-aum-meditation-2/
LOCATION:Sala Rossa
CATEGORIES:Sala Rossa,Somraj & The Humaniversity
ATTACH;FMTTYPE=image/jpeg:https://www.oshofestival.it/wp-content/uploads/2025/12/66-DSC_4515.jpg
END:VEVENT
BEGIN:VEVENT
DTSTART;TZID=Europe/Rome:20260425T090000
DTEND;TZID=Europe/Rome:20260425T230000
DTSTAMP:20260424T124909
CREATED:20260112T163948Z
LAST-MODIFIED:20260201T095654Z
UID:2617-1777107600-1777158000@www.oshofestival.it
SUMMARY:Sessioni individuali
DESCRIPTION:Sessioni individuali di bodywork proposte da Osho Divine Healing Arts\, (ODHA)\, da Osho Prana Healing (OPH) e da Body Balancing Bio Dinamico e altri. E poi sessioni al tavolo come Kirlian\, Aura Soma\, Tarocchi…\nAffrettati a fissare – presso il tavolo nell’atrio – il giorno e l’ora in cui regalarti una sessione per assicurarti il momento giusto per te.
URL:https://www.oshofestival.it/event/sessioni-individuali-8/
LOCATION:Foyer
CATEGORIES:Foyer
ATTACH;FMTTYPE=image/png:https://www.oshofestival.it/wp-content/uploads/2026/01/Schermata-2026-02-01-alle-10.55.45.png
END:VEVENT
BEGIN:VEVENT
DTSTART;TZID=Europe/Rome:20260425T094000
DTEND;TZID=Europe/Rome:20260425T105000
DTSTAMP:20260424T124909
CREATED:20251222T085018Z
LAST-MODIFIED:20260201T102714Z
UID:1473-1777110000-1777114200@www.oshofestival.it
SUMMARY:Meditazione OSHO Laughter
DESCRIPTION:La meditazione della risata. “Venti minuti di risata\, poi venti minuti di contatto con la terra\, un profondo contatto con la terra. Respira con la terra\, sentiti una cosa sola con la terra… Dopo questi venti minuti energizzanti – poiché la terra ti darà così tanta energia che la tua danza avrà una qualità diversa – danza per venti minuti.” Osho
URL:https://www.oshofestival.it/event/meditazione-osho-laughter-2/
LOCATION:Sala Blu
CATEGORIES:Sala Blu
ATTACH;FMTTYPE=image/png:https://www.oshofestival.it/wp-content/uploads/2025/12/Schermata-2026-02-01-alle-11.26.38.png
END:VEVENT
BEGIN:VEVENT
DTSTART;TZID=Europe/Rome:20260425T113000
DTEND;TZID=Europe/Rome:20260425T130000
DTSTAMP:20260424T124909
CREATED:20251222T085019Z
LAST-MODIFIED:20260131T201117Z
UID:1474-1777116600-1777122000@www.oshofestival.it
SUMMARY:L’arte di scomparire
DESCRIPTION:Movimento e meditazione per abbandonare l’ego.\nTra i suoi numerosi contributi unici nel mondo della meditazione\, la danza è sicuramente uno dei più popolari di Osho. Come egli stesso spiega\, non solo amiamo ballare quando siamo gioiosi\, ma anche che la danza ci rende gioiosi!\nImmergendoci nella danza e in profonde meditazioni guidate\, possiamo sperimentare senza sforzo la bellezza del lasciarci andare.
URL:https://www.oshofestival.it/event/larte-di-scomparire-2/
CATEGORIES:Maneesha James,Sala Rossa
ATTACH;FMTTYPE=image/jpeg:https://www.oshofestival.it/wp-content/uploads/2025/12/30-DSC_3998.jpg
END:VEVENT
BEGIN:VEVENT
DTSTART;TZID=Europe/Rome:20260425T114000
DTEND;TZID=Europe/Rome:20260425T125000
DTSTAMP:20260424T124909
CREATED:20251222T085020Z
LAST-MODIFIED:20260201T094005Z
UID:1475-1777117200-1777121400@www.oshofestival.it
SUMMARY:Meditazione OSHO Vipassana
DESCRIPTION:La Vipassana è un processo molto semplice. C’è solo il respiro che entra ed esce. Buddha dice di osservarlo\, seduto in silenzio\, di diventarne consapevole. Piano piano la mente lascia il posto al misterioso testimone interiore.
URL:https://www.oshofestival.it/event/meditazione-osho-vipassana-3/
LOCATION:Sala Blu
CATEGORIES:Sala Blu
ATTACH;FMTTYPE=image/png:https://www.oshofestival.it/wp-content/uploads/2025/12/Schermata-2026-02-01-alle-10.38.25.png
END:VEVENT
BEGIN:VEVENT
DTSTART;TZID=Europe/Rome:20260425T150000
DTEND;TZID=Europe/Rome:20260425T163000
DTSTAMP:20260424T124909
CREATED:20251222T085021Z
LAST-MODIFIED:20260201T102402Z
UID:1476-1777129200-1777134600@www.oshofestival.it
SUMMARY:Intimità e relazioni consapevoli
DESCRIPTION:Le relazioni sono spesso inficiate da meccanismi automatici e ripetitivi che ci tengono “schiavi” di reazioni\, aspettative\, illusioni\, e delusioni\, fughe e blocchi. Questo può accadere con partner\, amici\, o familiari…\nSpesso la distanza dall’altro non nasce dall’assenza di amore\, ma dal modo in cui reagiamo\, ci difendiamo\, ci proteggiamo.\nQuesti meccanismi nascono nell’infanzia\, ci hanno guidato e protetto\, per qualche buon motivo\, ma agiti nella vita adulta ci tengono in relazioni poco sane.\nL’intimità nella relazione cresce se cresce la sensazione di essere in un luogo sicuro con l’altro e di relazionarsi dal presente\, togliendo le interferenze dell’istinto di protezione\, delle gabbie del passato e delle aspettative del proprio desiderio.\nScoprire e osservare il nostro meccanismo di “sopravvivenza”\, il meccanismo che accade in automatico dentro di noi\, può aiutarci a prenderne distanza\, allargando la nostra consapevolezza verso nuove vie.\nRispondere\, anziché reagire\, osservare ed accogliere anziché aspettarci ciò che ci siamo ‘immaginati’ dovesse accadere… percepire e prenderci la responsabilità dei nostri bisogni crea il terreno per l’intimità.\nAttraverso esercizi di consapevolezza e osservazione sperimenteremo come passare da automatismi a movimenti coscienti\, sia verso noi stessi che verso l’altro.\nL’intimità può nascere solo dalla fiducia e l’apertura verso nuovi modi\, nuove comprensioni\, nuovo ascolto dei nostri bisogni\, per poter vedere e accogliere lì dove è possibile anche l’altro\, senza dimenticarsi di se stessi\, senza obblighi e senza colpe.\nL’intimità non si conquista: si lascia accadere. È il risultato di due presenze che si incontrano senza fretta\, senza maschere\, senza pretendere nulla — solo con la disponibilità a esserci davvero.
URL:https://www.oshofestival.it/event/intimita-e-relazioni-consapevoli-2/
LOCATION:Sala Rossa
CATEGORIES:Sala Rossa,Siddho e Anurag
ATTACH;FMTTYPE=image/png:https://www.oshofestival.it/wp-content/uploads/2025/12/Schermata-2026-02-01-alle-11.22.41.png
END:VEVENT
BEGIN:VEVENT
DTSTART;TZID=Europe/Rome:20260425T151000
DTEND;TZID=Europe/Rome:20260425T162000
DTSTAMP:20260424T124909
CREATED:20251222T110032Z
LAST-MODIFIED:20260201T103403Z
UID:1679-1777129800-1777134000@www.oshofestival.it
SUMMARY:Live Music Satsang Meditation
DESCRIPTION:Musica dal vivo\, humming\, silenzio e voce di Osho. Sat­sang è una parola sanscrita formata dai due termini: verità e comunione. Uno spazio di comunione con se stessi attraverso la meditazione.
URL:https://www.oshofestival.it/event/live-music-satsang-meditation-3/
CATEGORIES:Manu e Nijen,Sala Blu
ATTACH;FMTTYPE=image/png:https://www.oshofestival.it/wp-content/uploads/2025/12/Schermata-2026-02-01-alle-11.33.30.png
END:VEVENT
BEGIN:VEVENT
DTSTART;TZID=Europe/Rome:20260425T170000
DTEND;TZID=Europe/Rome:20260425T181000
DTSTAMP:20260424T124909
CREATED:20251222T110032Z
LAST-MODIFIED:20260131T171327Z
UID:1680-1777136400-1777140600@www.oshofestival.it
SUMMARY:Meditazione OSHO Kundalini
DESCRIPTION:“Quando l’energia scorre e tu sei colmo di beatitudine\, fermati in modo che l’energia abbia la possibilità di fluire in modo totale.” Osho
URL:https://www.oshofestival.it/event/meditazione-osho-kundalini-6/
CATEGORIES:Sala Rossa
ATTACH;FMTTYPE=image/jpeg:https://www.oshofestival.it/wp-content/uploads/2025/12/65_DSC_4519.jpg
END:VEVENT
BEGIN:VEVENT
DTSTART;TZID=Europe/Rome:20260425T185000
DTEND;TZID=Europe/Rome:20260425T200000
DTSTAMP:20260424T124909
CREATED:20251222T110032Z
LAST-MODIFIED:20260201T104144Z
UID:1681-1777143000-1777147200@www.oshofestival.it
SUMMARY:Meditazione OSHO Evening Meeting
DESCRIPTION:La sua importanza è evidenziata dal fatto che Osho ha chiesto che nel suo Meditation Resort si interrompesse ogni altro programma\, nelle ore dell’incontro serale\, e che tutti vi partecipassero.
URL:https://www.oshofestival.it/event/meditazione-osho-evening-meeting-4/
LOCATION:Sala Rossa
CATEGORIES:Sala Rossa
ATTACH;FMTTYPE=image/png:https://www.oshofestival.it/wp-content/uploads/2025/12/Schermata-2026-02-01-alle-11.41.14-scaled.png
END:VEVENT
BEGIN:VEVENT
DTSTART;TZID=Europe/Rome:20260425T214500
DTEND;TZID=Europe/Rome:20260425T221500
DTSTAMP:20260424T124909
CREATED:20251222T110032Z
LAST-MODIFIED:20260201T105436Z
UID:1682-1777153500-1777155300@www.oshofestival.it
SUMMARY:Dancing in the Heart
DESCRIPTION:Danzando col cuore.
URL:https://www.oshofestival.it/event/dancing-in-the-heart-3/
LOCATION:Sala Rossa
CATEGORIES:Sala Rossa
ATTACH;FMTTYPE=image/jpeg:https://www.oshofestival.it/wp-content/uploads/2025/12/22_DSC6394.jpg
END:VEVENT
BEGIN:VEVENT
DTSTART;TZID=Europe/Rome:20260425T221500
DTEND;TZID=Europe/Rome:20260425T224500
DTSTAMP:20260424T124909
CREATED:20251222T110033Z
LAST-MODIFIED:20260201T104516Z
UID:1683-1777155300-1777157100@www.oshofestival.it
SUMMARY:Sannyas Celebration
DESCRIPTION:“Voglio che l’intera umanità sia un unico oceano di consapevolezza. Qual¬siasi cosa abbiano fatto i buddha del passato era buona\, ma non sufficiente. Hanno creato per se stessi il picco più alto della coscienza. Io vorrei creare quel picco più alto per tutti… almeno per coloro che lo cercano.” Osho
URL:https://www.oshofestival.it/event/sannyas-celebration-3/
LOCATION:Sala Rossa
CATEGORIES:Sala Rossa
ATTACH;FMTTYPE=image/png:https://www.oshofestival.it/wp-content/uploads/2025/12/Schermata-2026-02-01-alle-11.44.47-scaled.png
END:VEVENT
BEGIN:VEVENT
DTSTART;TZID=Europe/Rome:20260425T224500
DTEND;TZID=Europe/Rome:20260425T231500
DTSTAMP:20260424T124909
CREATED:20260102T141620Z
LAST-MODIFIED:20260201T105323Z
UID:2047-1777157100-1777158900@www.oshofestival.it
SUMMARY:E ora... FESTA!
DESCRIPTION:Festa finale della serata.
URL:https://www.oshofestival.it/event/e-ora-festa/
LOCATION:Sala Rossa
CATEGORIES:Sala Rossa
ATTACH;FMTTYPE=image/png:https://www.oshofestival.it/wp-content/uploads/2026/01/Schermata-2026-02-01-alle-11.52.29-scaled.png
END:VEVENT
END:VCALENDAR