BEGIN:VCALENDAR
VERSION:2.0
PRODID:-//Oshofestival - ECPv6.15.20//NONSGML v1.0//EN
CALSCALE:GREGORIAN
METHOD:PUBLISH
X-WR-CALNAME:Oshofestival
X-ORIGINAL-URL:https://www.oshofestival.it
X-WR-CALDESC:Eventi per Oshofestival
REFRESH-INTERVAL;VALUE=DURATION:PT1H
X-Robots-Tag:noindex
X-PUBLISHED-TTL:PT1H
BEGIN:VTIMEZONE
TZID:Europe/Rome
BEGIN:DAYLIGHT
TZOFFSETFROM:+0100
TZOFFSETTO:+0200
TZNAME:CEST
DTSTART:20250330T010000
END:DAYLIGHT
BEGIN:STANDARD
TZOFFSETFROM:+0200
TZOFFSETTO:+0100
TZNAME:CET
DTSTART:20251026T010000
END:STANDARD
BEGIN:DAYLIGHT
TZOFFSETFROM:+0100
TZOFFSETTO:+0200
TZNAME:CEST
DTSTART:20260329T010000
END:DAYLIGHT
BEGIN:STANDARD
TZOFFSETFROM:+0200
TZOFFSETTO:+0100
TZNAME:CET
DTSTART:20261025T010000
END:STANDARD
BEGIN:DAYLIGHT
TZOFFSETFROM:+0100
TZOFFSETTO:+0200
TZNAME:CEST
DTSTART:20270328T010000
END:DAYLIGHT
BEGIN:STANDARD
TZOFFSETFROM:+0200
TZOFFSETTO:+0100
TZNAME:CET
DTSTART:20271031T010000
END:STANDARD
END:VTIMEZONE
BEGIN:VEVENT
DTSTART;TZID=Europe/Rome:20260425T070000
DTEND;TZID=Europe/Rome:20260425T080000
DTSTAMP:20260424T100232
CREATED:20251222T085010Z
LAST-MODIFIED:20260131T200628Z
UID:1470-1777100400-1777104000@www.oshofestival.it
SUMMARY:Yoga: un ritorno a sé
DESCRIPTION:Attraverso l’immobilità\, movimenti spontanei e movimenti di ascolto\, l’attenzione viene riportata al sentire diretto.\nUno spazio in cui il corpo e il respiro diventano luogo di esperienza\, prima che l’esperienza diventi interpretazione.
URL:https://www.oshofestival.it/event/yoga-un-ritorno-a-se-2/
LOCATION:Sala Blu
CATEGORIES:Ojas,Sala Blu
ATTACH;FMTTYPE=image/jpeg:https://www.oshofestival.it/wp-content/uploads/2025/12/57_DSC_4483.jpg
END:VEVENT
BEGIN:VEVENT
DTSTART;TZID=Europe/Rome:20260425T094000
DTEND;TZID=Europe/Rome:20260425T105000
DTSTAMP:20260424T100232
CREATED:20251222T085018Z
LAST-MODIFIED:20260201T102714Z
UID:1473-1777110000-1777114200@www.oshofestival.it
SUMMARY:Meditazione OSHO Laughter
DESCRIPTION:La meditazione della risata. “Venti minuti di risata\, poi venti minuti di contatto con la terra\, un profondo contatto con la terra. Respira con la terra\, sentiti una cosa sola con la terra… Dopo questi venti minuti energizzanti – poiché la terra ti darà così tanta energia che la tua danza avrà una qualità diversa – danza per venti minuti.” Osho
URL:https://www.oshofestival.it/event/meditazione-osho-laughter-2/
LOCATION:Sala Blu
CATEGORIES:Sala Blu
ATTACH;FMTTYPE=image/png:https://www.oshofestival.it/wp-content/uploads/2025/12/Schermata-2026-02-01-alle-11.26.38.png
END:VEVENT
BEGIN:VEVENT
DTSTART;TZID=Europe/Rome:20260425T114000
DTEND;TZID=Europe/Rome:20260425T125000
DTSTAMP:20260424T100232
CREATED:20251222T085020Z
LAST-MODIFIED:20260201T094005Z
UID:1475-1777117200-1777121400@www.oshofestival.it
SUMMARY:Meditazione OSHO Vipassana
DESCRIPTION:La Vipassana è un processo molto semplice. C’è solo il respiro che entra ed esce. Buddha dice di osservarlo\, seduto in silenzio\, di diventarne consapevole. Piano piano la mente lascia il posto al misterioso testimone interiore.
URL:https://www.oshofestival.it/event/meditazione-osho-vipassana-3/
LOCATION:Sala Blu
CATEGORIES:Sala Blu
ATTACH;FMTTYPE=image/png:https://www.oshofestival.it/wp-content/uploads/2025/12/Schermata-2026-02-01-alle-10.38.25.png
END:VEVENT
BEGIN:VEVENT
DTSTART;TZID=Europe/Rome:20260425T151000
DTEND;TZID=Europe/Rome:20260425T162000
DTSTAMP:20260424T100232
CREATED:20251222T110032Z
LAST-MODIFIED:20260201T103403Z
UID:1679-1777129800-1777134000@www.oshofestival.it
SUMMARY:Live Music Satsang Meditation
DESCRIPTION:Musica dal vivo\, humming\, silenzio e voce di Osho. Sat­sang è una parola sanscrita formata dai due termini: verità e comunione. Uno spazio di comunione con se stessi attraverso la meditazione.
URL:https://www.oshofestival.it/event/live-music-satsang-meditation-3/
CATEGORIES:Manu e Nijen,Sala Blu
ATTACH;FMTTYPE=image/png:https://www.oshofestival.it/wp-content/uploads/2025/12/Schermata-2026-02-01-alle-11.33.30.png
END:VEVENT
END:VCALENDAR