BEGIN:VCALENDAR
VERSION:2.0
PRODID:-//Oshofestival - ECPv6.15.20//NONSGML v1.0//EN
CALSCALE:GREGORIAN
METHOD:PUBLISH
X-ORIGINAL-URL:https://www.oshofestival.it
X-WR-CALDESC:Eventi per Oshofestival
REFRESH-INTERVAL;VALUE=DURATION:PT1H
X-Robots-Tag:noindex
X-PUBLISHED-TTL:PT1H
BEGIN:VTIMEZONE
TZID:Europe/Rome
BEGIN:DAYLIGHT
TZOFFSETFROM:+0100
TZOFFSETTO:+0200
TZNAME:CEST
DTSTART:20250330T010000
END:DAYLIGHT
BEGIN:STANDARD
TZOFFSETFROM:+0200
TZOFFSETTO:+0100
TZNAME:CET
DTSTART:20251026T010000
END:STANDARD
BEGIN:DAYLIGHT
TZOFFSETFROM:+0100
TZOFFSETTO:+0200
TZNAME:CEST
DTSTART:20260329T010000
END:DAYLIGHT
BEGIN:STANDARD
TZOFFSETFROM:+0200
TZOFFSETTO:+0100
TZNAME:CET
DTSTART:20261025T010000
END:STANDARD
BEGIN:DAYLIGHT
TZOFFSETFROM:+0100
TZOFFSETTO:+0200
TZNAME:CEST
DTSTART:20270328T010000
END:DAYLIGHT
BEGIN:STANDARD
TZOFFSETFROM:+0200
TZOFFSETTO:+0100
TZNAME:CET
DTSTART:20271031T010000
END:STANDARD
END:VTIMEZONE
BEGIN:VEVENT
DTSTART;TZID=Europe/Rome:20260426T070000
DTEND;TZID=Europe/Rome:20260426T081000
DTSTAMP:20260424T144115
CREATED:20251222T085059Z
LAST-MODIFIED:20260201T103154Z
UID:1483-1777186800-1777191000@www.oshofestival.it
SUMMARY:Meditazione OSHO Dinamica
DESCRIPTION:Rimani consapevole. E quando\, nella quarta fase\, sarai completamente immobile\, come congelato\, allora la tua presenza raggiungerà il suo apice.
URL:https://www.oshofestival.it/event/meditazione-osho-dinamica-4/
LOCATION:Sala Rossa
CATEGORIES:Sala Rossa
ATTACH;FMTTYPE=image/png:https://www.oshofestival.it/wp-content/uploads/2025/12/Schermata-2026-02-01-alle-11.31.17.png
END:VEVENT
BEGIN:VEVENT
DTSTART;TZID=Europe/Rome:20260426T093000
DTEND;TZID=Europe/Rome:20260426T110000
DTSTAMP:20260424T144115
CREATED:20260102T141621Z
LAST-MODIFIED:20260201T101735Z
UID:2050-1777195800-1777201200@www.oshofestival.it
SUMMARY:Costellazioni Sistemiche per un Sì alla Vita
DESCRIPTION:Quando riprendiamo il nostro giusto posto nella vita\, liberi dai richiami del passato del sistema familiare\, accade un “Sì alla Vita” che non nasce dallo sforzo\, ma da un’apertura naturale del cuore e da un sì a se stessi.\nCi sono “no” che vivono dentro di noi a nostra insaputa.\nSi possono manifestare con difficoltà con i figli o con il partner\, con i genitori o nell’ambito lavorativo e nelle relazioni in generale.\nOppure li possiamo sperimentare nell’incapacità di procedere con leggerezza verso la creatività e la gioia di vivere.\nPossiamo sentirci trattenuti\, bloccati\, a volte senza un chiaro senso di direzione.\nMa spesso questi “no” non sono davvero nostri: li condividiamo inconsciamente con il sistema familiare\, per amore. È l’amore cieco che ci muove e unisce ai nostri avi nella sofferenza o nella difficoltà.\nSeguire la propria gioia e la propria direzione è\, a volte\, accompagnato da una sensazione di colpa inspiegabile.\nQuando questi legami nascosti emergono\, durante una costellazione sistemica\, molta energia vitale si libera insieme a chiarezza e forza verso le proprie scelte.\nIl filo d’amore con genitori e avi si purifica\, diventa amore consapevole\, capace di sostenerci invece che trattenerci. Lo spirito si alleggerisce.\nCosì nasce la nostra individualità\, il nostro coraggio di essere semplicemente se stessi.
URL:https://www.oshofestival.it/event/costellazioni-sistemiche-per-un-si-alla-vita/
LOCATION:Sala Rossa
CATEGORIES:Sala Rossa,Siddho e Anurag
ATTACH;FMTTYPE=image/png:https://www.oshofestival.it/wp-content/uploads/2026/01/Schermata-2026-02-01-alle-11.17.04-scaled.png
END:VEVENT
BEGIN:VEVENT
DTSTART;TZID=Europe/Rome:20260426T113000
DTEND;TZID=Europe/Rome:20260426T130000
DTSTAMP:20260424T144115
CREATED:20260102T141655Z
LAST-MODIFIED:20260201T100822Z
UID:2052-1777203000-1777208400@www.oshofestival.it
SUMMARY:Chi è al volante della tua vita?
DESCRIPTION:Dalla mente alla presenza\nChi sta guidando la tua vita in questo momento?\nLa mente\, con le sue abitudini\, i suoi giudizi\, le sue identificazioni?\nO c’è uno spazio più profondo\, silenzioso e vivo\, da cui può emergere una direzione autentica?\nCosa è ciò che vuoi veramente per te?\nIn questo incontro esperienziale verrai accompagnato a rallentare\, sentire e ascoltare.\nAttraverso la relazione con l’altro\, il respiro e il contatto consapevole con il corpo\, esploreremo la differenza tra vivere guidati da strutture acquisite\, necessarie alla sopravvivenza\, e vivere radicati nella nostra autentica natura.\nLa meditazione diventa qui un’esperienza incarnata: non qualcosa da “fare”\, ma uno spazio in cui lasciar cadere ciò che non siamo.\nNel silenzio\, nella presenza\, può emergere una chiarezza naturale: non come risposta mentale\, ma come sentire profondo.\nLascia andare il FARE controllato dal mentale per dare spazio all’ESSERE.\nUn invito a smettere di cercare fuori e a riconoscere ciò che è già qui.
URL:https://www.oshofestival.it/event/chi-e-al-volante-della-tua-vita-dalla-mente-alla-presenza/
CATEGORIES:Sala Rossa,Sumitra
ATTACH;FMTTYPE=image/jpeg:https://www.oshofestival.it/wp-content/uploads/2025/12/23_DSC6364.jpg
END:VEVENT
BEGIN:VEVENT
DTSTART;TZID=Europe/Rome:20260426T150000
DTEND;TZID=Europe/Rome:20260426T163000
DTSTAMP:20260424T144115
CREATED:20251222T110045Z
LAST-MODIFIED:20260209T115259Z
UID:1691-1777215600-1777221000@www.oshofestival.it
SUMMARY:Amome® Open Your Heart
DESCRIPTION:Un grande evento collettivo\, ritrovandoci tutti insieme nel cuore\, a concludere l’Osho Festival 2026.\nLo spazio del cuore è un luogo metafisico posto al centro del petto\, un crocevia tra i chakra terreni e quelli spirituali. Aprire il cuore è un modo di connettersi con l’energia originaria\, l’energia dell’amore incondizionato\, ripulito dagli schemi degli scontri tra le personalità. Un’energia nutriente che ci riporta al nostro sé più autentico. Un modo per aprirsi alla meravigliosa fragranza dell’esistenza con i piedi ben ancorati a terra e la testa libera di spaziare…
URL:https://www.oshofestival.it/event/amome-open-your-heart-3/
LOCATION:Sala Rossa
CATEGORIES:Aseel,Sala Rossa
ATTACH;FMTTYPE=image/png:https://www.oshofestival.it/wp-content/uploads/2025/12/Schermata-2026-02-01-alle-11.05.21-scaled.png
END:VEVENT
BEGIN:VEVENT
DTSTART;TZID=Europe/Rome:20260426T163000
DTEND;TZID=Europe/Rome:20260426T164500
DTSTAMP:20260424T144115
CREATED:20251222T110046Z
LAST-MODIFIED:20260131T201312Z
UID:1692-1777221000-1777221900@www.oshofestival.it
SUMMARY:Arrivederci
DESCRIPTION:Saluti finali e anticipazione date future.
URL:https://www.oshofestival.it/event/arrivederci-3/
LOCATION:Sala Rossa
CATEGORIES:Sala Rossa
ATTACH;FMTTYPE=image/jpeg:https://www.oshofestival.it/wp-content/uploads/2025/12/02-DSC_0087.jpg
END:VEVENT
BEGIN:VEVENT
DTSTART;TZID=Europe/Rome:20260426T170000
DTEND;TZID=Europe/Rome:20260426T180000
DTSTAMP:20260424T144115
CREATED:20251222T085118Z
LAST-MODIFIED:20260209T142054Z
UID:1492-1777222800-1777226400@www.oshofestival.it
SUMMARY:Meditazione OSHO Kundalini
DESCRIPTION:Immergersi totalmente nello scuotimento e nella danza aiuta a sciogliere la rigidità ovunque il fluire dell’energia sia stato represso e bloccato.
URL:https://www.oshofestival.it/event/meditazione-osho-kundalini-5/
LOCATION:Sala Rossa
CATEGORIES:Sala Rossa
ATTACH;FMTTYPE=image/jpeg:https://www.oshofestival.it/wp-content/uploads/2025/12/65_DSC_4519.jpg
END:VEVENT
END:VCALENDAR